BEGIN:VCALENDAR
VERSION:2.0
PRODID:spatie/icalendar-generator
DESCRIPTION:Veranstaltungen von www.XT500.org
X-WR-CALDESC:Veranstaltungen von www.XT500.org
REFRESH-INTERVAL;VALUE=DURATION:PT1440M
X-PUBLISHED-TTL:PT1440M
BEGIN:VTIMEZONE
TZID:Europe/Berlin
BEGIN:STANDARD
DTSTART:20251026T030000Z
TZOFFSETFROM:+0200
TZOFFSETTO:+0100
END:STANDARD
BEGIN:DAYLIGHT
DTSTART:20260329T020000Z
TZOFFSETFROM:+0100
TZOFFSETTO:+0200
END:DAYLIGHT
END:VTIMEZONE
BEGIN:VTIMEZONE
TZID:UTC
BEGIN:STANDARD
DTSTART:20250727T093156Z
TZOFFSETFROM:+0000
TZOFFSETTO:+0000
END:STANDARD
END:VTIMEZONE
BEGIN:VEVENT
UID:40-3
DTSTAMP:20260423T093156Z
SUMMARY:XT Stammtisch Hamburg
LOCATION:
ORGANIZER;CN=Jonni:MAILTO:todde@webwinkler.de
RRULE:FREQ=MONTHLY;BYDAY=1WE;UNTIL=20331231T000000Z
DTSTART;TZID=Europe/Berlin:20260107T193000
DTEND;TZID=Europe/Berlin:20260107T220000
X-ALT-DESC;FMTTYPE=TEXT/HTML:Jeden ersten Mittwoch im Monat trifft sich der
  XT-500-Stammtisch Hamburg Seit vielen Jahren hat sich das Prinzip bewähr
 t. Infos? z.B. HIER Ort: Barmbeker Schachcafe\, Rübenkamp 227\, 22307 Ham
 burg
CATEGORIES:General
URL;VALUE=URI:https://www.xt500.org/events/xt-stammtisch-hamburg/?mc_id=40
METHOD:PUBLISH
END:VEVENT
END:VCALENDAR